BEGIN:VCALENDAR
VERSION:2.0
PRODID:-//OSR Projects - ECPv6.15.20//NONSGML v1.0//EN
CALSCALE:GREGORIAN
METHOD:PUBLISH
X-WR-CALNAME:OSR Projects
X-ORIGINAL-URL:https://osrprojects.co.uk
X-WR-CALDESC:Events for OSR Projects
REFRESH-INTERVAL;VALUE=DURATION:PT1H
X-Robots-Tag:noindex
X-PUBLISHED-TTL:PT1H
BEGIN:VTIMEZONE
TZID:Europe/London
BEGIN:DAYLIGHT
TZOFFSETFROM:+0000
TZOFFSETTO:+0100
TZNAME:BST
DTSTART:20220327T010000
END:DAYLIGHT
BEGIN:STANDARD
TZOFFSETFROM:+0100
TZOFFSETTO:+0000
TZNAME:GMT
DTSTART:20221030T010000
END:STANDARD
BEGIN:DAYLIGHT
TZOFFSETFROM:+0000
TZOFFSETTO:+0100
TZNAME:BST
DTSTART:20230326T010000
END:DAYLIGHT
BEGIN:STANDARD
TZOFFSETFROM:+0100
TZOFFSETTO:+0000
TZNAME:GMT
DTSTART:20231029T010000
END:STANDARD
BEGIN:DAYLIGHT
TZOFFSETFROM:+0000
TZOFFSETTO:+0100
TZNAME:BST
DTSTART:20240331T010000
END:DAYLIGHT
BEGIN:STANDARD
TZOFFSETFROM:+0100
TZOFFSETTO:+0000
TZNAME:GMT
DTSTART:20241027T010000
END:STANDARD
END:VTIMEZONE
BEGIN:VTIMEZONE
TZID:UTC
BEGIN:STANDARD
TZOFFSETFROM:+0000
TZOFFSETTO:+0000
TZNAME:UTC
DTSTART:20190101T000000
END:STANDARD
END:VTIMEZONE
BEGIN:VEVENT
DTSTART;TZID=Europe/London:20230422T103000
DTEND;TZID=Europe/London:20230422T170000
DTSTAMP:20260424T020032
CREATED:20230313T145411Z
LAST-MODIFIED:20230317T072833Z
UID:103458-1682159400-1682182800@osrprojects.co.uk
SUMMARY:Into Another Intensity - Seminar
DESCRIPTION:OSR Projects are excited to announce a one-day seminar\, Into another intensity\, taking place on Saturday 22 April 2023. This event will bring artists\, curators and cultural producers together in rural Somerset to consider how art can open up new encounters with\, and ways of thinking about rural places in the context of an ever more interconnected world. \nAs part of the Od Arts Festival 2023 – Still and Still Moving this seminar is relevant to all creative practitioners with an interest in the opportunities as well as the challenges of making\, participating and experiencing art in rural contexts. The event will provide presentations by inspiring speakers\, as well as a chance to meet future collaborators\, share food and explore new perspectives through creative provocations and conversations. \nFor more information and to book your ticket. \n 
URL:https://osrprojects.co.uk/event/into-another-intensity-seminar/
LOCATION:OSR Projects\, Old School Room\, Church Street\, West Coker\, Somerset\, BA22 9BD\, United Kingdom
CATEGORIES:Festival,Seminar
ATTACH;FMTTYPE=image/jpeg:https://osrprojects.co.uk/wp-content/uploads/2023/03/eventbrite-header-seminar.jpg
ORGANIZER;CN="OSR Projects":MAILTO:info@osrprojects.co.uk
END:VEVENT
BEGIN:VEVENT
DTSTART;TZID=UTC:20200515T080000
DTEND;TZID=UTC:20200517T170000
DTSTAMP:20260424T020032
CREATED:20190618T152618Z
LAST-MODIFIED:20200214T194152Z
UID:83116-1589529600-1589734800@osrprojects.co.uk
SUMMARY:Od Arts Festival 2020
DESCRIPTION:
URL:https://osrprojects.co.uk/event/od-arts-festival-2020/
LOCATION:OSR Projects\, Old School Room\, Church Street\, West Coker\, Somerset\, BA22 9BD\, United Kingdom
CATEGORIES:Festival,Workshop,Seminar,Exhibition
ATTACH;FMTTYPE=image/jpeg:https://osrprojects.co.uk/wp-content/uploads/2019/06/v1-e1581712802101.jpg
ORGANIZER;CN="OSR Projects":MAILTO:info@osrprojects.co.uk
END:VEVENT
END:VCALENDAR