BEGIN:VCALENDAR
VERSION:2.0
PRODID:-//OSR Projects - ECPv6.15.20//NONSGML v1.0//EN
CALSCALE:GREGORIAN
METHOD:PUBLISH
X-ORIGINAL-URL:https://osrprojects.co.uk
X-WR-CALDESC:Events for OSR Projects
REFRESH-INTERVAL;VALUE=DURATION:PT1H
X-Robots-Tag:noindex
X-PUBLISHED-TTL:PT1H
BEGIN:VTIMEZONE
TZID:Europe/Paris
BEGIN:DAYLIGHT
TZOFFSETFROM:+0100
TZOFFSETTO:+0200
TZNAME:CEST
DTSTART:20200329T010000
END:DAYLIGHT
BEGIN:STANDARD
TZOFFSETFROM:+0200
TZOFFSETTO:+0100
TZNAME:CET
DTSTART:20201025T010000
END:STANDARD
BEGIN:DAYLIGHT
TZOFFSETFROM:+0100
TZOFFSETTO:+0200
TZNAME:CEST
DTSTART:20210328T010000
END:DAYLIGHT
BEGIN:STANDARD
TZOFFSETFROM:+0200
TZOFFSETTO:+0100
TZNAME:CET
DTSTART:20211031T010000
END:STANDARD
BEGIN:DAYLIGHT
TZOFFSETFROM:+0100
TZOFFSETTO:+0200
TZNAME:CEST
DTSTART:20220327T010000
END:DAYLIGHT
BEGIN:STANDARD
TZOFFSETFROM:+0200
TZOFFSETTO:+0100
TZNAME:CET
DTSTART:20221030T010000
END:STANDARD
END:VTIMEZONE
BEGIN:VTIMEZONE
TZID:UTC
BEGIN:STANDARD
TZOFFSETFROM:+0000
TZOFFSETTO:+0000
TZNAME:UTC
DTSTART:20160101T000000
END:STANDARD
END:VTIMEZONE
BEGIN:VEVENT
DTSTART;TZID=Europe/Paris:20211015T110000
DTEND;TZID=Europe/Paris:20211107T170000
DTSTAMP:20260424T020944
CREATED:20211002T122346Z
LAST-MODIFIED:20211002T123551Z
UID:102624-1634295600-1636304400@osrprojects.co.uk
SUMMARY:WHAT ARE YOU LOOKING AT?
DESCRIPTION:An exhibition of new work and short film by artist Angela Charles exploring notions of ‘seeing’ in art from the perspective of a visually impaired painter. \nExhibition dates: \n15 October – 7 November\n11am – 5pm Thursday/Friday/Saturday\n11am – 3pm Sunday
URL:https://osrprojects.co.uk/event/what-are-you-lookin-at/
LOCATION:OSR Projects\, Old School Room\, Church Street\, West Coker\, Somerset\, BA22 9BD\, United Kingdom
CATEGORIES:Exhibition
ATTACH;FMTTYPE=image/png:https://osrprojects.co.uk/wp-content/uploads/2021/10/m3.png
ORGANIZER;CN="OSR Projects":MAILTO:info@osrprojects.co.uk
END:VEVENT
BEGIN:VEVENT
DTSTART;TZID=Europe/Paris:20211014T173000
DTEND;TZID=Europe/Paris:20211014T210000
DTSTAMP:20260424T020944
CREATED:20210921T113642Z
LAST-MODIFIED:20210921T114530Z
UID:102589-1634232600-1634245200@osrprojects.co.uk
SUMMARY:Film Premier of WHAT ARE YOU LOOKING AT?
DESCRIPTION:Film Premier of WHAT ARE YOU LOOKING AT? \n\n\nA short film by Liberty Smith exploring Angela Charles’ journey into making work as a blind painter (duration aprox 15mins) with contributions from Artist Bedwyr Williams and Voice Actor Christopher Flowers. After the film there will be a Q&A with Angela Charles. \nVenue: West Coker Village Hall\, High Street\, West Coker\, Somerset BA22 9AL (Parking available at the Village Hall\, 5 minute walk to OSR Projects) \nDate: 14 October 2021\, 6pm screening (doors open at 5:30pm) \n**Booking essential  \nIf you have any access requirements or a sign language interpreter please let us know in advance on 01935 862201 \nFollowed by the preview of exhibition of new works \nVenue: OSR Projects\, Church Street\, West Coker\, Somerset\, BA22 9BD \nDate: 14 October 2021\, 6:45pm – 9pm
URL:https://osrprojects.co.uk/event/what-are-you-looking-at/
LOCATION:West Coker Village Hall\, High Street Churlands Close\, West Coker\, Somerset\, BA22 9AL\, United Kingdom
CATEGORIES:Exhibition
ATTACH;FMTTYPE=image/png:https://osrprojects.co.uk/wp-content/uploads/2021/09/a-red-square-41-low.png
ORGANIZER;CN="OSR Projects":MAILTO:info@osrprojects.co.uk
END:VEVENT
BEGIN:VEVENT
DTSTART;TZID=UTC:20200515T080000
DTEND;TZID=UTC:20200517T170000
DTSTAMP:20260424T020944
CREATED:20190618T152618Z
LAST-MODIFIED:20200214T194152Z
UID:83116-1589529600-1589734800@osrprojects.co.uk
SUMMARY:Od Arts Festival 2020
DESCRIPTION:
URL:https://osrprojects.co.uk/event/od-arts-festival-2020/
LOCATION:OSR Projects\, Old School Room\, Church Street\, West Coker\, Somerset\, BA22 9BD\, United Kingdom
CATEGORIES:Exhibition,Festival,Workshop,Seminar
ATTACH;FMTTYPE=image/jpeg:https://osrprojects.co.uk/wp-content/uploads/2019/06/v1-e1581712802101.jpg
ORGANIZER;CN="OSR Projects":MAILTO:info@osrprojects.co.uk
END:VEVENT
BEGIN:VEVENT
DTSTART;VALUE=DATE:20170513
DTEND;VALUE=DATE:20171208
DTSTAMP:20260424T020944
CREATED:20170811T111110Z
LAST-MODIFIED:20240603T132154Z
UID:2956-1494633600-1512691199@osrprojects.co.uk
SUMMARY:Esme House - Art Inn the Square
DESCRIPTION:On the occasion of Esme’s 90th birthday we are delighted to present a selection of work made by one of West Cokers most talented residents.\nEsme’s approach to making art comes from a desire to make\, to use her hands. The love of materials is always evident from the richly layered embroideries that contain hours of work to the evocative and playful experiments with wax and burning. \nThis exhibition brings together a selection of work made from the past 20 years alongside an early embroidery that was made at the age of 15. \nDates: 13 July – 7 December 2017\nVenue: Upstairs at Inn The Square\, 1 Church Street\, West Coker\, Somerset BA22 9BD
URL:https://osrprojects.co.uk/event/esme-house-art-inn-the-square/
LOCATION:Inn The Square\, 1 Church Street\,\, West Coker\,\, Somerset\, BA22 9BD\, United Kingdom
CATEGORIES:Exhibition
ATTACH;FMTTYPE=image/jpeg:https://osrprojects.co.uk/wp-content/uploads/2017/08/esmehouse.jpg
END:VEVENT
END:VCALENDAR